BEGIN:VCALENDAR
VERSION:2.0
PRODID:icalendar-ruby
CALSCALE:GREGORIAN
BEGIN:VEVENT
DTSTAMP:20260421T165238Z
UID:a35fcac9-01c9-4f10-bd53-e425b33d017e
DTSTART:20260516T060000
DTEND:20260516T140000
DESCRIPTION:Ein beliebter Trödelmarkt  Samstags und Mittwoch auf dem Saat
 bruchgelände in Recklinghausen . \nStandgeld: Samstag Trödel lfd. Meter
  9\,-    Neuware 15\,- Euro\nStandgeld: Mittwoch  Trödel lfd.Meter 6\,
 -    Neuware 10\,- Euro\n \nAchtung !!! Da der Trödelmarkt wegen ander
 er Veranstaltungen auf dem Gelände ausfallen kann\, rufen Sie bitte siche
 rheitshalber vorher an.\n \nAchtung:    &gt\;  Aufbau ab 2 Meter Verka
 ufsfläche\nAchtung : Auto ab 3 Meter  Verkaufsfläche am Stand\nWeitere 
 Infos www.vogt.ag         \nTelefon : 0281/89151\nHandy  : 0172 2970
 949\n                                    \n \n \n \n
  \n \n 
LOCATION:Kurt-Oster-Straße  45659 
SUMMARY:Trödelmarkt in Recklinghausen an der Vestlandhalle auf dem Freigel
 ände
END:VEVENT
END:VCALENDAR
