BEGIN:VCALENDAR
VERSION:2.0
PRODID:icalendar-ruby
CALSCALE:GREGORIAN
BEGIN:VEVENT
DTSTAMP:20260421T121433Z
UID:9401721b-abbd-4d5d-a90f-32cabe0012bd
DTSTART:20260607T090000
DTEND:20260607T160000
DESCRIPTION:PLATZFREIGABE ca. 7.30 UHR ! - DAS GELÄNDE IST BIS DAHIN GESPE
 RRT !\nPRÄSENTATIONSPFLICHT DER WAREN ! Bis 14.00 Uhr mindestens !\nIm Ze
 ntrum der Großen Kreisstadt Aue im Erzgebirge. Es stehen ca. 100 hell üb
 erdachte\, witterungsunabhängige Händlerplätze zur Verfügung. In unmit
 telbarer Nähe verbleiben weitere 200 Besucherparkplätze. Sehr gut besuch
 ter und total beliebter Trödelmarkt auf dem Gelände des weit über die G
 renzen bekannten SIMMEL Einkaufzentrums. Anfahrt - A72 Ausfahrt Hartenstei
 n der Ausschilderung Richtung Aue folgen. Bei Mc-Donalds rechts abbiegen i
 mmer geradeaus über die Eisenbahnbrücke. An der Ampel links wieder gerad
 eaus. 2. Ampel rechts Richtung Klingenthal Landratsamt. Nach 150 m rechts 
 ab zum Simmel-Center.\nEs wird die komplette Autolänge berechnet ( eventu
 ell + Anhänger)2 m  20\,oo Euro3 m mit Auto 25\,00 Euro5 m mit Auto 40\,
 00 Euro10m mit Auto 60\,00 Euro\njeder weitere Meter + 8\,00 Euro\nDie Tie
 fe des Standes beträgt maximal 2\,50 m\nJEDER TRÖDLER HAT DEM  EINWEISU
 NGSPERSONAL ZU FOLGEN. Plätze können aus organisatorischen Gründen nich
 t reserviert werden. Die Platzvergabe erfolgt in der Reihenfolge des Eintr
 effens.\nInfo: 0173-5955565 ( auch WhatsApp )               
                        www.troedel-marktunion.de \
 n  
LOCATION:Wettinerstraße 4 08280 
SUMMARY:SIMMELCENTER  AUE  - Aufbau ab 7.30 Uhr !
END:VEVENT
END:VCALENDAR
