BEGIN:VCALENDAR
VERSION:2.0
PRODID:icalendar-ruby
CALSCALE:GREGORIAN
BEGIN:VEVENT
DTSTAMP:20260422T185140Z
UID:ce788831-a6be-4418-8dac-4f91667156c3
DTSTART:20261011T110000
DTEND:20261011T180000
DESCRIPTION:großer Flohmarkt zum verkaufsoffenen Sonntag in Stuttgart- Wei
 limdorf! Jeder kann ohne Anmeldung mitmachen! Einfach vorbeikommen! Platzv
 ergabe ab 7 Uhr morgens! Unser Mitarbeiter zeigt Ihnen Ihren Standplatz! E
 s gibt genug Platz für alle! Standmiete € 10\,- pro Meter! Bezahlung vo
 r Ort! Fahrzeug kostenlos am Stand! Neuwaren erlaubt!\nTisch\, Stuhl\, Kle
 iderstange etc. bitte selbst mitbringen!\nBis dann!\nDer Markt findet bei 
 jedem Wetter statt!\n \n \nJetzt neu: Besuche www.gerosflohmarkt.de und 
 verkaufe kostenlos Deine Sachen online!\nGerosFlohmarkt.de - Flohmärkte u
 nd kostenlose Kleinanzeigen!
LOCATION:Motorstraße 20 70499 Weilimdorf
SUMMARY:Stuttgart- Weilimdorf\, BÄKO neben Metro\, Riesenflohmarkt! Findet
  statt! Ohne Voranmeldung! Ohne Termin! Einfach vorbeikommen!
END:VEVENT
END:VCALENDAR
