BEGIN:VCALENDAR
VERSION:2.0
PRODID:icalendar-ruby
CALSCALE:GREGORIAN
BEGIN:VEVENT
DTSTAMP:20260425T170821Z
UID:a600ebf2-624c-46db-8565-e600de1011b3
DTSTART:20261101T100000
DTEND:20261101T160000
DESCRIPTION:Der große indoor ANTIKMARKT in der gesamten Ladenstrasse des R
 hein-Neckar-Zentrums in Viernheim ist eine Veranstaltung für alle\, die d
 as Besondere suchen und Individualität bevorzugen. Rund 100 Aussteller au
 s Deutschland und dem benachbarten Ausland präsentieren sich auf dem ANTI
 KMARKT und bieten ein umfangreiches Warenangebot an ausgewählten Antiquit
 äten\, zeitlosen Design-Klassikern\, Dekorationen\, Schmuck\, hochwertige
 n Vintage- und Shabby Chic Möbeln\, tollen Retro-Stücken und vielem mehr
 . Die Mischung aus hochwertigen und wundervollen Antiquitäten\, schrillen
  und trendigen Retrostücken\, verspielten und wunderschönen Vintage Ware
 n versetzen die Besucher dabei in die guten alten Zeiten zurück. Im Eintr
 ittspreis enthalten ist eine separate Plattenbörse und das Angebot der ko
 stenlosen Expertenberatung für mitgebrachte antike Stücke von zuhause. U
 nser Sachverständiger schätzt Ihre Waren und berät die Besucher auch be
 im Weiterverkauf. Vielleicht schlummert bei Ihnen ja ein ganz besonderer S
 chatz. Wir freuen uns auf Euren Besuch. Der Eintritt kostet 5 Euro\, Kinde
 r frei\, ab 15.00 Uhr 3 Euro. Parken ist frei. Gastronomie im Center geöf
 fnet.\nWeitere Infos finden Sie auf unserer Homepage: www.nostalgia-markt.
 de\nFür eine Standplatz Buchung kontaktieren Sie uns per Mail: service@th
 oermann-messen.de oder rufen uns an: 02131-4030940
LOCATION:Robert-Schuman-Straße 8 68519 
SUMMARY: indoor Antikmarkt Rhein-Neckar Zentrum\, Viernheim
END:VEVENT
END:VCALENDAR
