BEGIN:VCALENDAR
VERSION:2.0
PRODID:icalendar-ruby
CALSCALE:GREGORIAN
BEGIN:VEVENT
DTSTAMP:20260420T110516Z
UID:6a59dff4-07bd-4b4e-beb0-32712c3f7ae8
DTSTART:20260718T060000
DTEND:20260718T160000
DESCRIPTION:Floh- und Trödelmarkt\nKEINE NEUWARE!!!\nDer Schießtalplatz a
 n der Schießtalstrasse ist der städtische Festplatz mit einer geteerten 
 Fläche von ca. 10 000 Quadratmetern.\nDer Markt beginnt um 6 Uhr und lös
 t sich erfahrungsgemäß ab 13 Uhr auf. Einfahrt und Aufbau ist nicht vor 
 6 Uhr möglich!\nBei der Einfahrt wird Ihnen vom Personal ein Platz zugewi
 esen!.\nACHTUNG: An Sonntagen findet der Markt erst ab 10 Uhr statt! Einfa
 hrt ab 7:00 Uhr Uhr - Ende gegen 16 Uhr!\nDie Standgebühren betragen 5 Eu
 ro pro Meter (die Fahrzeuglänge gehört zur Standgröße/Verkaufsfläche)
  bei einer max. Standtiefe von 1\,5 Metern ab Fahrzeug!\nBeispiele:SMART (
 ca. 2\,5 m)/Verkaufstische mit 6 m vor Auto -&gt\; Standmiete: 6 mMB Sprin
 ter (ca. 6 m)/Verkaufstisch mit 1 m vor Auto -&gt\; Standmiete: 6 m\nDer S
 tandbetreiber hat darauf zu achten\, dass zwischen den Standreihen eine Fa
 hrstraße für PKW\, Krankenwagen usw.\nerhalten bleibt.\nUm 16 Uhr muss d
 er Platz geräumt sein. Der Standplatz ist sauber zu verlassen! Müll oder
  nicht verkaufte Waren muß vom Verkäufer\nmitgenommen werden! Bei Zuwide
 rhandlung wird sehr konsequent Platzverbot erteilt!\n \nEin sauberes Toil
 ettenhaus sowie ein guter Imbiss und eine Stromstation zum Überprüfen vo
 n Elektrogeräten stehen zur Verfügung.\nZusätzlich haben wir einen Umkl
 eideraum mit grossem Spiegel zum Anprobieren von Kleidern eingerichtet!\n
  \nViel Spaß beim Verkaufen! Gerne beantworte ich Ihre Fragen unter Tel.
  0171/4750717      Gelmar/Denndorf\n 
LOCATION:Schießtalstraße 36 73527 
SUMMARY:Floh- und Trödelmarkt auf dem Festplatz Schießtal
END:VEVENT
END:VCALENDAR
