BEGIN:VCALENDAR
VERSION:2.0
PRODID:icalendar-ruby
CALSCALE:GREGORIAN
BEGIN:VEVENT
DTSTAMP:20260422T022727Z
UID:e3b15fea-6f44-4cce-89e2-6104686af0d1
DTSTART:20260808T150000
DTEND:20260808T200000
DESCRIPTION:Es ist wieder soweit. \nAbend-Flohmarkt jeden 2. Samstag:\n·
          4. April 2026\n·         18. April 2026\n·  
        2. Mai 2026\n·         16. Mai 2026\n·      
    30. Mai 2026\n·         13. Juni 2026\n·         27
 . Juni 2026\n          11. Juli 2026\n·          25. Juli 2
 026\n·         8. August 2026\n·         22. August 2026
 \n·         5. September 2026\n·         19. September 2
 026\n·         10. Oktober 2026\n          24. Oktober 2026\
 nbeim\nEisen Jourdan\nGüterbahnhof 11\, 75177 Pforzheim\n von 15:00 bis 
 20:00 Uhr\nEinfahrt ab 14:00 Uhr! Einlass Besucher ab 15:00 Uhr!\nStandgeb
 ühr\nfür Trödel: 10.- EUR / Meter\nNeuware verboten.
LOCATION:Güterbahnhof 45 75177 
SUMMARY: Abendflohmarkt Eisen Jourdan
END:VEVENT
END:VCALENDAR
