BEGIN:VCALENDAR
VERSION:2.0
PRODID:icalendar-ruby
CALSCALE:GREGORIAN
BEGIN:VEVENT
DTSTAMP:20260421T103448Z
UID:88a84c5f-b0d5-4f93-919e-7c8927bce244
DTSTART:20260510T080000
DTEND:20260510T170000
DESCRIPTION: \nTraditioneller seit jahren gut eingeführter Strassenflohma
 rkt ab Marktplatz auf der Kötztingerstr.\, zum verkaufsoffenen Sonntag.\n
 Anmeldung erforderlich
LOCATION:Kötztinger Straße 13 94249 Silberberg
SUMMARY:Marktplatz Ortsmitte
END:VEVENT
END:VCALENDAR
