BEGIN:VCALENDAR
VERSION:2.0
PRODID:icalendar-ruby
CALSCALE:GREGORIAN
BEGIN:VEVENT
DTSTAMP:20260421T090547Z
UID:e163a433-db00-47fa-b85d-0ee4dff3c5c0
DTSTART:20261004T080000
DTEND:20261004T170000
DESCRIPTION: \nTraditioneller seit jahren gut eingeführter Strassenflohma
 rkt ab Marktplatz auf der Kötztingerstr.\, zum verkaufsoffenen Sonntag.\n
 Anmeldung erforderlich
LOCATION:Kötztinger Straße 13 94249 Silberberg
SUMMARY:Marktplatz Ortsmitte
END:VEVENT
END:VCALENDAR
