BEGIN:VCALENDAR
VERSION:2.0
PRODID:icalendar-ruby
CALSCALE:GREGORIAN
BEGIN:VEVENT
DTSTAMP:20260426T011742Z
UID:2c7fbca5-ec82-4169-a283-c718043c4808
DTSTART:20260829T100000
DTEND:20260829T200000
DESCRIPTION:Der Antik- und Trödelmarkt findet im Jahr 2026 vom 28.08. bis 
 30.08.2025 im Rahmen des Altstadtfestes der Stadt Haldensleben statt. \n 
 \nÖffnungszeiten:Freitag:          14.00 Uhr bis 19.00 Uhr  \nS
 onnabend:   09.00 Uhr bis 19.00 Uhr  \nSonntag:       09.00 Uhr b
 is 19.00 Uhr\n \nPreise: Freitag 5\,00 € / Samstag u. Sonntag 7\,00 €
  für Trödelware \nImmer zum Altstadtfest\, das letzte Wochenende im Aug
 ust\, findet der schon traditionelle Trödelmarkt statt. Die Ausstellungsf
 läche liegt zum größten Teil in einer Parkanlage und schließt sich an 
 das eigentliche Altstadtfest an!  Die Besucher stöbern meist bis in den 
 späten Abend über den Trödelmarkt.Bei Interesse bitten wir Sie\, sich p
 er E-Mail mit uns in Verbindung zu setzen\, bitte teilen Sie uns ihre tele
 fonische Erreichbarkeit mit.\n 
LOCATION:Lange Straße 61 39340 
SUMMARY:Marktplatz Altstadtfest
END:VEVENT
END:VCALENDAR
