BEGIN:VCALENDAR
VERSION:2.0
PRODID:icalendar-ruby
CALSCALE:GREGORIAN
BEGIN:VEVENT
DTSTAMP:20260424T063702Z
UID:0c60cccf-2f06-4e88-b3cb-6fafdf8b69a3
DTSTART:20260514T080000
DTEND:20260514T170000
DESCRIPTION:Alle Info's rund um unsere Märkte\,\nTermine\, Aufbauzeiten\, 
 Preise\, usw.\nfinden Sie unter:\n \nwww.marktagentur-schneider.de\n \nM
 obil: 0160 997 129 89\nTel. &amp\; Terminansage: 09572 382 312\n \nMail:\
 nmarktagentur.schneider@yahoo.de\n \nFacebook:\nMarktagentur-Schneider Tr
 ödelfans
LOCATION:Lichtenfelser Straße 45 96231 
SUMMARY:REWE- MARKT &amp\; ALDI
END:VEVENT
END:VCALENDAR
