BEGIN:VCALENDAR
VERSION:2.0
PRODID:icalendar-ruby
CALSCALE:GREGORIAN
BEGIN:VEVENT
DTSTAMP:20260421T093211Z
UID:dbd3cf6a-1165-416a-babb-2d2332b78760
DTSTART:20260731T180000
DTEND:20260731T000000
DESCRIPTION:Shopping und Kulturnacht in Bodenmais\nNachtflohmarkt von 18-24
  Uhr auf der Hauptstrasse  (Bahnhofstr.) nur normale Strassenbeleuchtung\
 nganzer Markt ab 18.oo Uhr  Gesperrt . Deshalb Aufbau erst um 18.oo Uhr 
 möglich (Strassensperre) \nin fast allen Strassen ist irgend eine Verans
 taltung\nIn den letzten Jahren waren immer mehrere tausend Leute unterwegs
LOCATION:Bahnhofstraße 32 94249 Bodenmais
SUMMARY:Ortsmitte
END:VEVENT
END:VCALENDAR
