BEGIN:VCALENDAR
VERSION:2.0
PRODID:icalendar-ruby
CALSCALE:GREGORIAN
BEGIN:VEVENT
DTSTAMP:20260424T170604Z
UID:3c5435de-39b8-4271-9fb7-bea5bb345895
DTSTART:20260425T080000
DTEND:20260425T160000
DESCRIPTION:Einer der größten Flohmärkte in Niedersachsen.\nAutobahn A2\
 , Abfahrt Bothfeld\, Richtung Langenhagen fahren. Die Pferderennbahn Neue 
 Bult ist ausgeschildert. \n--\nAufbau 6:00 bis 8:00 Uhr / Abbau ab 15:0
 0 Uhr\n--\nWeitere Infos und Standpreise: www.dhd-maerkte.de\nFacebook: h
 ttps://www.facebook.com/dhdmaerkte/\n 
LOCATION:Theodor-Heuss-Straße 41 30853 
SUMMARY:Pferderennbahn
END:VEVENT
END:VCALENDAR
