BEGIN:VCALENDAR
VERSION:2.0
PRODID:icalendar-ruby
CALSCALE:GREGORIAN
BEGIN:VEVENT
DTSTAMP:20260423T185401Z
UID:931462fe-f105-4536-ab10-69fdde41bcde
DTSTART:20260906T110000
DTEND:20260906T180000
DESCRIPTION:Der beliebteste Markt dieser Region. \nJeden ersten Sonntag im 
 Monat findet hier ein Menschenauflauf statt\, der seines Gleichen sucht. \
 n--\nAufbau ab 6:00 Uhr / Abbau ab 15:00 Uhr\nKEINE WAREN IN DEN GÄNGEN!!
 ! \nKFZ am Stand erst ab 3 lfd. Meter! \nKeine Reservierung nötig!\nBit
 te beachten Sie\, dass wir teilweise Standflächen haben\, bei denen es ni
 cht möglich ist\, sein KFZ mit am Platz zu haben.\n--\nWeitere Infos und 
 Standpreise: www.dhd-maerkte.de\nFacebook: https://www.facebook.com/dhdma
 erkte/\n 
LOCATION:Heerserheider Straße 2 32107 Holzhausen
SUMMARY:Telekomplatz 2.0/Messezentrum
END:VEVENT
END:VCALENDAR
