BEGIN:VCALENDAR
VERSION:2.0
PRODID:icalendar-ruby
CALSCALE:GREGORIAN
BEGIN:VEVENT
DTSTAMP:20260424T131105Z
UID:47992004-5235-4bd2-8cf8-9a9f610e25d2
DTSTART:20260517T110000
DTEND:20260517T180000
DESCRIPTION:''Bad Wildbader Frühling'' \n"Der Markt findet am 17. Mai in 
 der Innenstadt und EDEKA Parkplatz von Bad Wildbad zum Verkaufsoffenen Son
 ntag statt."\nSonntagströdelmarkt (17.05.2026)\nvon 11:00 - 18:00 Uhr.\nA
 ufbau ab 09:00 Uhr. Anfahrt nur nach 07:00 Uhr möglich.\nSie finden den T
 rödelmarkt in der Innenstadt und auf dem Parkplatz EDEKA von Bad Wildbad.
  Zum Verkaufsoffen Sonntag. Der Markt ist gut zu erreichen\, verkehrsgüns
 tig und gut einsehbar. Imbis und WC vorhanden. Hier keine Neuware. Handwer
 k erlaubt. Kein Auto am Stand in der Innenstadt erlaubt. Beim Edeka mit Au
 to möglich.\nStandgebühr\; 11\,- € pro/m. ohne Auto\; (Innenstadt und 
 Edeka)\n                     12\,- € pro/m. mit Auto\; (nur E
 deka)\n(Kleine Autos mindestabnahme 3m\;\ngroße Autos\, Kombi\, SUV/Gelä
 ndewagen mindestens 4m\;\nVan und Busse mindestens 5m.)\nEs wird eine Mül
 lkaution von 10\,- ¤ erhoben\, die bei sauberem verlassen der Standfläch
 e selbstverständlich zurückerstattet wird.
LOCATION:König-Karl-Straße 53 75323 
SUMMARY:Bad Wildbader Sonntagsmarkt
END:VEVENT
END:VCALENDAR
