BEGIN:VCALENDAR
VERSION:2.0
PRODID:icalendar-ruby
CALSCALE:GREGORIAN
BEGIN:VEVENT
DTSTAMP:20260422T211644Z
UID:fb74b509-83a8-43d2-b069-7255a3c2d572
DTSTART:20260531T060000
DTEND:20260531T160000
DESCRIPTION:Der Klassiker in Neuwied am REWE- Center! Seit Jahren beliebter
  und bekannter Markt.\nPlatzvergabe ab 6.00 Uhr - KEINE eigenmächtige Bel
 egung von Standplätzen! Die Standplätze werden durch unsere Ordner verge
 ben! - keine Reservierung erforderlich - Verkauf in ganz Rheinland- Pfalz 
 an Sonntagen laut Landesgesetz über Messen\, Märkte und Ausstellungen (L
 MAMG) ab 11.00 Uhr!\nDie Zeiten für Platzvergabe und Verkauf sind unbedin
 g zu beachten. Nichtbeachtung führt zum sofortigen Ausschluss von der Ver
 anstaltung.\nMindestgröße pro Stand 3 Meter - PKW kann am Stand bleiben 
 - Sprinter ab 4 Meter Standgröße - LKW (über 3to) ab 6 Meter Standgrö
 ße.\nStandgeld (pro laufenden Meter):Trödel/gebrauchte Sachen/Kunsthandw
 erk: 12\,-€Neuware/volksfesttypsche Ware/Textil: 20\,-€\nReinigungskau
 tion pro Stand: Trödel/gebrauchte Sachen 5\,-€\,Neuware/volksfesttypsch
 e Ware/Textil: 10\,-€Die Reinigungskaution wird erstattet\, wenn der Sta
 ndplatz gereinigt verlassen wird\, und nur am Verantstaltungstag ab 15.00 
 Uhr. Anfallender Müll ist mitzunehmen.\nLebensmittel/Gastronomie nur nach
  vorheriger Absprache!\nBitte beachten: der Verkauf von Messern\, Hieb- un
 d Stichwaffen\, usw. ist auf allen unseren Veranstaltungen verboten!Der Ve
 rkauf von E-Shishas\, Vapes und dergleichen ist verboten!\nAus Sicherheits
 gründen darf das Veranstaltungsgelände zwischen 8.00 Uhr und 15.30 Uhr n
 icht mit PKW\, usw. befahren werden. Sollte eine Abreise vor 15.30 Uhr nö
 tig sein\, bitte dies VOR Aufbau dem Ordnungspersonal mitteilen!\nAnfragen
  / Reservierunganmeldung@fmarkt.deoder WhatsApp (0175-2849530)\nTel: 02634
  6651300\n \nHinweis: auf unseren Veranstaltungen werden gelegentlich Fot
 o- und Filmaufnahmen für Dokumentations- und Werbezwecke gemacht. Mit Ihr
 em Besuch auf unseren Veranstaltungen erklären Sie sich damit einverstand
 en\, dass Aufnahmen\, auf denen Sie zu erkennen sind\, ohne Vergütungsans
 pruch für Dokumentations- und Werbezwecke verwendet und veröffentlicht w
 erden dürfen.\n \n 
LOCATION:Königsberger Str. 4 56564 Neuwied
SUMMARY:Neuwied Flohmarkt am REWE Center
END:VEVENT
END:VCALENDAR
