BEGIN:VCALENDAR
VERSION:2.0
PRODID:icalendar-ruby
CALSCALE:GREGORIAN
BEGIN:VEVENT
DTSTAMP:20260421T014014Z
UID:848b8445-0ec9-43e9-81be-ff9794fd8ca1
DTSTART:20260719T083000
DTEND:20260719T160000
DESCRIPTION:Haben Sie Interesse? Dann sichern Sie sich unter 04102/31939 o
 der auf unserer Internetseite www.hochberg-flohmarkt.de Ihren persönlich
 en Flohmarktstand.\nWir präsentieren Ihnen diesen recht neuen Flohmarkt a
 uf dem Dach des neu umgebauten Campus Centers\, von dem sich eine traumhaf
 te Aussicht auf die Hansestadt bietet. Durch das breite Angebot an verschi
 edenen Waren ist für jeden Sammler und Trödler etwas zu ergattern.Bei e
 iner Vorreservierung (online oder telefonisch) erhalten Sie einen Meter gr
 atis! (kostenpflichtige Mindestabnahme ohne PKW drei Meter\, mit PKW vier 
 Meter)Herzlich Willkommen und viel Vergnügen!\nAnfahrt mit öffentlichen 
 Verkehrsmitteln:\nmit der Buslinie 1 ab ZOB/Hbf. Richtung Lübeck Hochschu
 lstadtteilmit der Buslinie 2 ab ZOB/Hbf. Richtung Lübeck Bornkamp\nPreise
 : ohne Pkw 12\,00€ mit Pkw 14\,00€ je lfd. m.\, Aufbau: 7:00-8:30 UhrA
 chtung: bei Vorbuchung von 3 Metern (ab 4 Metern mit Pkw) erhalten sie den
  einen Meter gratis!
LOCATION:Alexander-Fleming-Straße 1 23562 Lübeck
SUMMARY:Campus Center (ehem. Mönkhof Karree) - Lübeck
END:VEVENT
END:VCALENDAR
