BEGIN:VCALENDAR
VERSION:2.0
PRODID:icalendar-ruby
CALSCALE:GREGORIAN
BEGIN:VEVENT
DTSTAMP:20260423T135732Z
UID:7c6a4931-4418-4ddd-9979-0c8d3e2e5e28
DTSTART:20260517T080000
DTEND:20260517T160000
DESCRIPTION:Willkommen auf unserem Antik-Trödelmarkt!\nLiebe Antik- und Tr
 ödelmarkt-Freunde\,\nwir laden euch herzlich zu unserem beliebten Antik-T
 rödelmarkt ein\, der in der Regel immer am dritten Sonntag im Monat statt
 findet!\nMit einer wettergeschützten Dachfläche von knapp 3000 Quadratme
 tern bieten wir euch einen angenehmen Aufenthalt\, unabhängig von den Wet
 terbedingungen.\nDie einzigartige Mischung aus Alt und Jung macht unseren 
 Markt besonders interessant und verspricht eine Vielfalt an Schätzen und 
 Raritäten. Hier findet jeder etwas nach seinem Geschmack!\nBesucher und A
 ussteller können sich bei uns vor jedem Wetter geschützt fühlen.\nAnmel
 dungen für einen Standplatz nehmen wir gerne telefonisch unter 0172-28303
 84 entgegen.\nUnd das Beste: Bei uns gibt es keinen Eintritt! \nWir freue
 n uns darauf\, euch auf unserem Antik-Trödelmarkt begrüßen zu dürfen u
 nd gemeinsam eine spannende Zeit zu verbringen!\n 
LOCATION:Schloßstraße 36 32108 Schötmar
SUMMARY:Überdachter Trödelmarkt Bad Salzuflen - HIT-MARKT
END:VEVENT
END:VCALENDAR
