BEGIN:VCALENDAR
VERSION:2.0
PRODID:icalendar-ruby
CALSCALE:GREGORIAN
BEGIN:VEVENT
DTSTAMP:20260423T205934Z
UID:8756982a-872c-4048-ba89-d8ab02b21610
DTSTART:20260426T130000
DTEND:20260426T180000
DESCRIPTION:ACHTUNG: es steht nur ein begrenzter Platz zur Verfügung\, die
  Zufahrt zur Bäckerei Felsenbeck muss dauerhaft frei bleiben.Bitte beacht
 en sie\, dass das Formular "Kontakt &amp\; Buchungsanfrage" KEINE Reservie
 rung darstellt. Verbindliche Reservierungen nehmen wir unter www.nmv-markt
 agentur.de direkt in der Veranstaltung entgegen. Gerne können sie natür
 lich auch ohne Reservierung auf unsere Flohmärkte kommen.\nDer laufende F
 rontmeter Trödel- und Gebrauchtwaren kostet 9 € (Vorkasse)\, 10 € (Be
 zahlung vor Ort)\, Kleiderständer (keine Ausleihe) 3 €\, Neuware 10 €
  (Vorkasse)\, 12 € (Bezahlung vor Ort).\nAufbau ab 10.00 Uhr\, Verkauf v
 on 13.00 bis 18.00 Uhr
LOCATION:Rudolf Diesel Straße 31 78532 Tuttlingen
SUMMARY:Parkplatz vor Bäckerei Felsenbeck und dm
END:VEVENT
END:VCALENDAR
