BEGIN:VCALENDAR
VERSION:2.0
PRODID:icalendar-ruby
CALSCALE:GREGORIAN
BEGIN:VEVENT
DTSTAMP:20260424T130915Z
UID:7fd175c7-a238-4f44-afce-3a9e6060c233
DTSTART:20260726T070000
DTEND:20260726T150000
DESCRIPTION:Der Antik- und Raritätenmarkt in Wetzlar auf dem Festplatz "Im
  Finsterloh"  ist seit 30 Jahren ein äußerst beliebter und gut besuchte
 r Markt mit überregionaler Bedeutung. Für den Markt wird in über 30 Zei
 tungen in Hessen und den angrenzenden Bundesländern geworben.Jeweils von 
 7.00 bis 14.00 Uhr.Gelände:Sehr großes idyllisch gelegenes waldumsäumte
 s Gelände\, teils Wiese und HartplatzWarenangebot:Antik- und Raritätenma
 rkt für jedermann. Waren aus 1970-80 und älter\, strenges Neuwarenverbot
  - auch keine Antik-Repros-\, keine elektronischen Tonträger oder Spiele\
 , kein Kunsthandwerk\, Kleidung (inkl. Schuhe) nur in haushaltsüblichen M
 engen und keine Stände mit ausschließlich Kleidung\, kein Elektroschrott
 \nStandgebühren:4 Meter Standlänge incl. Pkw 40\,- €\, jeder weitere M
 eter 5 €\, Pkw mit Anhänger und längere Fahrzeuge ab 5 m.      
                   Einzelmeter 15\,- €\, 2.+3. Meter je 
 10€ ohne Fahrzeug am Stand.                      
                                      
                                      
         Dazu 10\,- € Kaution\, die spätestens ab 15.00 Uhr und n
 ur am Standplatz erstattet werden. Die Standgebühren werden bei Einfahrt 
 auf das Gelände fällig. Vor Schließung der Eintrittskassen wird grunds
 ätzlich keine Kaution zurück erstattet. \nEintritt für alle Besucher
  ab 16 Jahren 2\,50 €.\nDie kostenlosen Parkplätze für Besucher befind
 en sich auf dem Freigelände\, ca. 14000 qm\,  zwischen der Frankfurter S
 tr. und der Straße "Unter dem Kirschbaum" (Zufahrt von der Frankfurter St
 raße).\nDarüberhinaus gibt es zahlreiche Parkmöglichkeiten im Gewerbege
 biet.      \nDie Einfahrt für Händler befindet sich stadtauswärts
  über den Kreisverkehr und danach die erste Straße links.\nAchtung: Wir 
 suchen einen Bäckerwagen oder ähnliches.\n 
LOCATION:Waldessaum /Frankfurter Straße 110 35578 
SUMMARY:Festplatz Finsterloh
END:VEVENT
END:VCALENDAR
