BEGIN:VCALENDAR
VERSION:2.0
PRODID:icalendar-ruby
CALSCALE:GREGORIAN
BEGIN:VEVENT
DTSTAMP:20260422T102132Z
UID:e6754b58-5008-4505-b547-ab51b534800f
DTSTART:20260510T070000
DTEND:20260510T150000
DESCRIPTION:Seit über 30 Jahren eingeführter Markt.  Ab sofort ca. 50 Pl
 ätze unter Solardächern und weitere im Freigelände.\n         
                                      
                                      
                                      
                  \nNeuwarenstände sind verboten.     
                                      
                                      
                                    Gel
 ände:Parkplatz oberhalb der Pumpenfabrik Herborn\, direkt neben der B 277
  gelegenWarenangebot:Von Antik bis Trödel für jedermann.Standgebühren:\
 npro Meter unter Dach 10\,- € \,  Pkw am Stand ab 3 Meter pro Meter Fre
 ifläche 8\,- €\, Pkw am Stand ab 3 Meter\nMindestgröße Stand 2 m\nZuf
 ahrt durch die Stadt über Walter-Rathenau-Straße.\nDer rote Marker zeigt
  die Einfahrt auf das Gelände. \nJeweils von 7.00 bis ca. 15.00 Uhr.
LOCATION:Littau 3 35745 
SUMMARY:Parkplatz an der Pumpenfabrik
END:VEVENT
END:VCALENDAR
