BEGIN:VCALENDAR
VERSION:2.0
PRODID:icalendar-ruby
CALSCALE:GREGORIAN
BEGIN:VEVENT
DTSTAMP:20260424T091234Z
UID:001b9909-007b-4a67-9219-7002f1f73f66
DTSTART:20260913T070000
DTEND:20260913T150000
DESCRIPTION:Seit über 30 Jahren eingeführter Markt.  Ab sofort ca. 50 Pl
 ätze unter Solardächern und weitere im Freigelände.\n         
                                      
                                      
                                      
                  \nNeuwarenstände sind verboten.     
                                      
                                      
                                    Gel
 ände:Parkplatz oberhalb der Pumpenfabrik Herborn\, direkt neben der B 277
  gelegenWarenangebot:Von Antik bis Trödel für jedermann.Standgebühren:\
 npro Meter unter Dach 10\,- € \,  Pkw am Stand ab 3 Meter pro Meter Fre
 ifläche 8\,- €\, Pkw am Stand ab 3 Meter\nMindestgröße Stand 2 m\nZuf
 ahrt durch die Stadt über Walter-Rathenau-Straße.\nDer rote Marker zeigt
  die Einfahrt auf das Gelände. \nJeweils von 7.00 bis ca. 15.00 Uhr.
LOCATION:Littau 3 35745 
SUMMARY:Parkplatz an der Pumpenfabrik
END:VEVENT
END:VCALENDAR
