BEGIN:VCALENDAR
VERSION:2.0
PRODID:icalendar-ruby
CALSCALE:GREGORIAN
BEGIN:VEVENT
DTSTAMP:20260424T133605Z
UID:253a9c56-cb06-437c-b271-452aafe4cb93
DTSTART:20260620T060000
DTEND:20260620T140000
DESCRIPTION:Flohmarkt 6-14 Uhr\nKeine Neuware !!!\nAufbau ab 5 Uhr \nKeine
  Anmeldung erforderlich\nEreichbarkeit mit der Strassen und Bergbahn AG Nr
 . 26 und 33\nLaufender Meter Gebrauchtware 10 Euro\, Kleiderständer 3 Eu
 ro\n 
LOCATION:Kirchheimer Weg 69 69124 
SUMMARY: Heidelberg Messplatz
END:VEVENT
END:VCALENDAR
