BEGIN:VCALENDAR
VERSION:2.0
PRODID:icalendar-ruby
CALSCALE:GREGORIAN
BEGIN:VEVENT
DTSTAMP:20260425T231953Z
UID:5d7713b4-f671-4200-8c2f-a2bf1a6884e9
DTSTART:20261031T090000
DTEND:20261031T163000
DESCRIPTION:Unser beliebter Innenstadt-Flohmarkt findet in Kassel in der Wi
 lhelmsstraße statt.  In gemütlichem Ambiente können Besucher*innen zwi
 schen den Ständen bummeln und stöbern. Für einen Freiluftflohmarkt ist 
 das Angebot des Marktes sehr hochwertig: Porzellan\, Gläser\, Weißwäsch
 e\, Bilder\, alten Schmuck\, Bücher und Bildbände kann man hier erstehen
 \, aber auch gebrauchten Hausrat\, selbsthergestellte Handarbeiten und Ki
 nderspielzeug erfreuen die Käufer*innen.\nUnser Innenstadtflohmarkt finde
 t von April bis Oktober jeweils am 1. und 3. Samstag im Monat statt. Aufb
 au ist für Aussteller*innen ab 6.30 Uhr möglich\, das Auto muss nach dem
  Entladen auf den naheliegenden Parkplatz gefahren werden. \nDas Standgel
 d beträgt 10\,00€ Euro pro Meter\, Verkauf ist von 9.00 Uhr bis 16.30 U
 hr.\nAnmeldung erforderlich!
LOCATION:Wilhelmsstraße 31 34117 Mitte
SUMMARY:Kassel Wilhelmsstr./ Karlsplatz
END:VEVENT
END:VCALENDAR
