BEGIN:VCALENDAR
VERSION:2.0
PRODID:icalendar-ruby
CALSCALE:GREGORIAN
BEGIN:VEVENT
DTSTAMP:20260420T123713Z
UID:4f3b47d2-2ea4-4bd9-96e1-c6488285266a
DTSTART:20260927T080000
DTEND:20260927T170000
DESCRIPTION: \n                             
                                      
                                      
                           \n \nFlohmarkt von Deu
 tschland über die Grenze nach Tschechien\, auf der Bahnhofstr. am Grenzba
 hnhof vorbei\, werden auf ca.1 Kilometer oder mehr die Flohmarktstände au
 fgebaut.                                           
                                                  
                  \nEs wird dieses mal voraussichtlich auf 2 Bühn
 e Musikdarbietungen geben\, von Volksmusik\, Pop\, Country und Rock wird a
 lles dargeboten\,von  Bekannten und weniger Bekannten Bands\, von Profis 
 und Anfängern.\nEs werden wieder  zwischen           4000 und 6000 
 Besucher erwartet\n \nAb 9.oo bis 17.oo Uhr Markttreiben über die Grenze
  nach Tschechien mit Flohmarkt und Musik\,  Verpflegung mit Schmankerl au
 s beiden Ländern. (z.B.Spanferkel am Grill)\nDas Lokalbahnmusem kann man 
 am Sonntag   "KOSTENLOS BESUCHEN" es werden auch Tresinenfahrten angebote
 n.\nGroßes Kinderprogram veranstaltet vom Naturpark BW\, Nationalpark Bay
 .\, Nationalpark CZ\, für die Kids werden Preise ausgelost\n        
                       Flohmarktbeginn ist schon um 8.oo Uhr   
 \nKommen Sie mit der Bahn Sie können mitten im Flohmarktgeschehen ausstei
 gen.
LOCATION:Bahnhofstraße 54 94252 Bayerisch Eisenstein
SUMMARY:Bahnhofsgelände Deutschland / Tschechien
END:VEVENT
END:VCALENDAR
