BEGIN:VCALENDAR
VERSION:2.0
PRODID:icalendar-ruby
CALSCALE:GREGORIAN
BEGIN:VEVENT
DTSTAMP:20260421T101230Z
UID:262f8120-2329-4d4f-abf9-cea240d9fa54
DTSTART:20260426T110000
DTEND:20260426T170000
DESCRIPTION: Großer Trödelmarkt in Osnabrück    \n Besuchermassen 
 durch unser Werbung!Werbung!Werbung!Werbung!!!  Jeder kann mit Machen\nW
 erbung: Andere reden darüber- Wir Machen es\nAufbau ab 7 Uhr. Lfdm Tröde
 l 8€. \n \n \n 
LOCATION:Kurt-Schumacher-Damm 54 49078 
SUMMARY:KAUFLAND Parkplatz (ehem RATIO )
END:VEVENT
END:VCALENDAR
