BEGIN:VCALENDAR
VERSION:2.0
PRODID:icalendar-ruby
CALSCALE:GREGORIAN
BEGIN:VEVENT
DTSTAMP:20260421T103134Z
UID:26ae7554-04d3-4f74-af21-fceff74c1dd6
DTSTART:20260621T110000
DTEND:20260621T170000
DESCRIPTION: Großer Trödelmarkt in Osnabrück    \n Besuchermassen 
 durch unser Werbung!Werbung!Werbung!Werbung!!!  Jeder kann mit Machen\nW
 erbung: Andere reden darüber- Wir Machen es\nAufbau ab 7 Uhr. Lfdm Tröde
 l 8€. \n \n \n 
LOCATION:Kurt-Schumacher-Damm 54 49078 
SUMMARY:KAUFLAND Parkplatz (ehem RATIO )
END:VEVENT
END:VCALENDAR
