BEGIN:VCALENDAR
VERSION:2.0
PRODID:icalendar-ruby
CALSCALE:GREGORIAN
BEGIN:VEVENT
DTSTAMP:20260421T140522Z
UID:99fcbeb3-080b-45a1-b265-7de4a9583d70
DTSTART:20260606T080000
DTEND:20260606T160000
DESCRIPTION:Bitte beachten sie\, dass das Formular "Kontakt &amp\; Buchungs
 anfrage" KEINE Reservierung darstellt. Verbindliche  Reservierungen\, die
  per Vorkasse bezahlt werden müssen\, nehmen wir unter www.nmv-marktagent
 ur.de direkt in der Veranstaltung entgegen. Ihr reservierter Platz wird a
 n Wochentagen bis 1/2 Stunde nach der angegebenen Aufbauzeit freigehalten\
 , an Sonntagen bis 7.30 Uhr ! Annahmeschluss ist für Wochenendmärkte je
 weils Freitag 16.00 Uhr\, Für Flohmärkte unter der Woche jeweils 16.00 
  Uhr am Vortag.\nGerne können sie natürlich auch ohne Reservierung auf 
 unsere Flohmärkte kommen.\nDer laufende Frontmeter Trödel- und Gebraucht
 waren kostet 9 € (Bezahlung per Vorkasse)\, 10 € (Bezahlung vor Ort) K
 leiderständer 3 €\, Neuware 10 €\nAufbau ab 6.00 Uhr\, Verkauf von 8.
 00 bis 16.00 Uhr
LOCATION:Im Friedengrund  78050 
SUMMARY:Flohmarkt auf dem Friedensgrund
END:VEVENT
END:VCALENDAR
