BEGIN:VCALENDAR
VERSION:2.0
PRODID:icalendar-ruby
CALSCALE:GREGORIAN
BEGIN:VEVENT
DTSTAMP:20260424T161914Z
UID:72dd8aee-5aea-4241-bef0-ba847a478a24
DTSTART:20270516T110000
DTEND:20270516T160000
DESCRIPTION:KEINE NEUWARE !Bitte beachten sie\, dass das Formular "Kontakt 
 &amp\; Buchungsanfrage" KEINE Reservierung darstellt. Verbindliche  Reser
 vierungen\, die per Vorkasse bezahlt werden müssen\, nehmen wir unter www
 .nmv-marktagentur.de direkt in der Veranstaltung entgegen. Ihr reserviert
 er Platz wird an Wochentagen bis 1/2 Stunde nach der angegebenen Aufbauzei
 t freigehalten\, an Sonntagen bis 7.30 Uhr ! Annahmeschluss ist für Woch
 enendmärkte jeweils Freitag 16.00 Uhr\, Für Flohmärkte unter der Woche 
 jeweils 16.00  Uhr am Vortag.\nGerne können sie natürlich auch ohne Res
 ervierung auf unsere Flohmärkte kommen.\nDer laufende Frontmeter Trödel-
  und Gebrauchtwaren kostet 8 € (Vorkasse) 9 € (Bezahlung vor Ort)\, Kl
 eiderständer 3 €\nAufbau ab 10.00 Uhr\, Verkauf von 11.00 bis 16.00 Uhr
LOCATION:Hauptstraße 49 73329 Kuchen
SUMMARY:Sonntag-Flohmarkt auf dem NETTO-Parkplatz
END:VEVENT
END:VCALENDAR
