BEGIN:VCALENDAR
VERSION:2.0
PRODID:icalendar-ruby
CALSCALE:GREGORIAN
BEGIN:VEVENT
DTSTAMP:20260424T032427Z
UID:80d5b4be-e2eb-4566-89d7-85b9738f5be6
DTSTART:20260726T080000
DTEND:20260726T160000
DESCRIPTION: \nACHTUNG KOMPLETT ÜBERDACHT!!\n \nKontakt: 0176 24 85 7953
 \nDurus-Flohmarkt\n in Wächtersbach\nJeder kann mitmachen! Keine Anmeld
 ung ! Einfach hinkommen.. ( NEUWARE ERLAUBT )\n \nPRO METER 10€ FÜR TR
 ÖDELWARE \nPRO METER 20€ FÜR NEUWARE\nACHTUNG KEINE PAUSCHALPREISE ME
 HR \n \nDuru’s-Flohmarkt Team\n \nKEINE ANMELDUNG ERFORDERLICH!\nEI
 NE RESERVIERUNG IST LEIDER NICHT MÖGLICH!\nEinfach hinkommen... :-)\nEin 
 WC-Wagen steht für Sie bereit. \n \nUND BITTE BEACHTE ALS TEILNEHMER:\
 nJeder Verkäufer muss seinen Stand sauber verlassen\,\nanfallender Müll
  und nicht verkaufte Dinge müssen privat entsorgt\,\nalso wieder mitgenom
 men werden!!!!\nDanke für Ihren Verständnis.\n \n \n \nMit freundlich
 en Grüßen\nDuru 
LOCATION:Main-Kinzig-Straße  63607 
SUMMARY:Durus-Flohmarkt Globus Wächtersbach 
END:VEVENT
END:VCALENDAR
