BEGIN:VCALENDAR
VERSION:2.0
PRODID:icalendar-ruby
CALSCALE:GREGORIAN
BEGIN:VEVENT
DTSTAMP:20260425T134833Z
UID:e5e416e7-63f7-468c-a2c7-b5a98023939d
DTSTART:20261101T080000
DTEND:20261101T160000
DESCRIPTION:Kontakt: 0176 2485 7953\nDurus-Flohmarkt\nin Linsengericht-Alte
 nhasslau\nam tegut Parkplatz !\nJeder kann mitmachen! Keine Anmeldung ! Ei
 nfach hinkommen.. ( Keine Neuware )\n \nPreise:\nPRO METER 10€ \nWir s
 ind ab 5 Uhr für Sie vor Ort.\nOffizieller Beginn ist 8.00 Uhr - und end
 et um 16.00 Uhr.\n \nKEINE ANMELDUNG ERFORDERLICH!\nEINE RESERVIERUNG I
 ST LEIDER NICHT MÖGLICH!\nEinfach hinkommen... :-)\n \nUND BITTE BEACHT
 E ALS TEILNEHMER:\nJeder Verkäufer muss seinen Stand sauber verlassen\,\
 nanfallender Müll und nicht verkaufte Dinge müssen privat entsorgt\,\nal
 so wieder mitgenommen werden!!!!\nDanke für Ihren Verständnis.\nwww.duru
 s-flohmarkt.de\n \nMit freundlichen Grüßen\nDuru\n 
LOCATION:Kleinbahnweg 63589 Altenhaßlau
SUMMARY:Durus-Flohmarkt am tegut Parkplatz in Altenhasslau
END:VEVENT
END:VCALENDAR
