BEGIN:VCALENDAR
VERSION:2.0
PRODID:icalendar-ruby
CALSCALE:GREGORIAN
BEGIN:VEVENT
DTSTAMP:20260421T084740Z
UID:b8fe006d-fec7-4bee-8ba0-f29fd4add6b0
DTSTART:20260716T080000
DTEND:20260716T190000
DESCRIPTION:CityFlohmarkt Offenburg \, Fußgängerzone \,lfm 15\,-€ \,\nk
 ein Auto am Stand \, Aufbau ab 7 h \, Abbau frühestens ab 19 h.\nDieses J
 ahr Hauptstrasse \, Fischmarkt und Kornstr. \, da Steinstrasse umgebaut wi
 rd\nInfo 0176 444 222 24\n \n 
LOCATION:Hauptstraße 90 77652 
SUMMARY:CityFlohmarkt Offenburg
END:VEVENT
END:VCALENDAR
