BEGIN:VCALENDAR
VERSION:2.0
PRODID:icalendar-ruby
CALSCALE:GREGORIAN
BEGIN:VEVENT
DTSTAMP:20260421T101620Z
UID:f0806cc3-2e36-4667-94d6-6a3f4d081f19
DTSTART:20260813T080000
DTEND:20260813T190000
DESCRIPTION:CityFlohmarkt Offenburg \, Fußgängerzone \,lfm 15\,-€ \,\nk
 ein Auto am Stand \, Aufbau ab 7 h \, Abbau frühestens ab 19 h.\nDieses J
 ahr Hauptstrasse \, Fischmarkt und Kornstr. \, da Steinstrasse umgebaut wi
 rd\nInfo 0176 444 222 24\n \n 
LOCATION:Hauptstraße 90 77652 
SUMMARY:CityFlohmarkt Offenburg
END:VEVENT
END:VCALENDAR
