BEGIN:VCALENDAR
VERSION:2.0
PRODID:icalendar-ruby
CALSCALE:GREGORIAN
BEGIN:VEVENT
DTSTAMP:20260421T051629Z
UID:c0b29721-1675-4924-a528-74f791992196
DTSTART:20261017T070000
DTEND:20261017T140000
DESCRIPTION: Koordinaten  + 49° 38' 34.75"\, + 8° 37' 25.42"\nINFOS: 01
 52 / 33866530 Frau Dorsheimer\n \nFlohmarkt seit 2007\n64646 HeppenheimLo
 rscher Straße - Europaplatz\nStandgebühr:\nTrödel: bis 5 Meter pauscha
 l € 25\,00 ... jeder weitere Meter \nNeuwaren: 10\,00 pro lfm \nDer Fl
 ohmarkt findet das ganze Jahr über\, außer an Feiertagen\, jeden Samstag
  statt.\nAusfalltermine werden frühzeitig bekannt gegeben.\nSamstags von 
 7.00 - 14.00 UhrAufbau ab 6.00 Uhr\nKeine Standplatzreservierung oder Anme
 ldung nötig\, der Europaplatz hat über 44000 qm\nStandplatz für Imbiss 
 und verschiedenen Frischwarenstände zu vergeben\n 
LOCATION:Lorscher Straße 62 64646 
SUMMARY:Flohmarkt Heppenheim - Europaplatz
END:VEVENT
END:VCALENDAR
