BEGIN:VCALENDAR
VERSION:2.0
PRODID:icalendar-ruby
CALSCALE:GREGORIAN
BEGIN:VEVENT
DTSTAMP:20260421T202318Z
UID:dff42e08-8b28-4501-beb0-c62ceb0c6df5
DTSTART:20260719T060000
DTEND:20260719T160000
DESCRIPTION:Herzlich Willkommen auf dem Flohmarkt\nin Schleswig Stadtfeld\n
  Platzinfos:\nTelefonisch\nzwischen 18:00 und 19:00 Uhr\nunter 0 17 127 2
 8 4 72\noder\nAlle Informationen sowie Preise  unter\nwww.flohprofi.de\nS
 eit 2022\n7€ laufender Meter\n \nTermine zum Ausdrucken:\nwww.flohprofi
 .de/download/Termine2024.pdf\n \nIch heiße Sie herzlich Willkommen zum m
 itmachen\nob nun als Aufsteller oder Besucher\n \nAllgemeines\nMit einem 
 PKW oder einem Anhänger werden 4 Meter berechnet\, die natürlich dann au
 ch zur Verfügung stehen und genutzt werden können.\nSollten Sie mit PKW 
 und Anhänger stehen wollen müssen Sie min. die Gesamtlänge von PKW und 
 Anhänger zahlen\, im Normalfall 7 Meter aber genaueres sehen wir vor Ort.
  (wir sind keine Unmenschen)\n 
LOCATION:Stadtfeld 24837 
SUMMARY:Schleswig Stadtfeld
END:VEVENT
END:VCALENDAR
