BEGIN:VCALENDAR
VERSION:2.0
PRODID:icalendar-ruby
CALSCALE:GREGORIAN
BEGIN:VEVENT
DTSTAMP:20260424T014049Z
UID:77334a62-fcf1-48d7-9414-e1029c783ea9
DTSTART:20260502T110000
DTEND:20260502T160000
DESCRIPTION:Tonträger aus allen Musikrichtungen seit den 50er Jahren bis z
 u den aktuellsten Neuerscheinungen: Vinyl-Schallplatten\, CDs\, DVDs\, Sin
 gles\, LPs\, Fan-Souvenirs.\nDer Treffpunkt der Musikfans. Eintritt 3 Euro
 \, Kinder bis 12 Jahre frei\, geöffnet 11-16 Uhr.\n 
LOCATION:Schützenplatz 33102 Paderborn
SUMMARY:SCHALLPLATTENBÖRSE PADERBORN Schützenhof
END:VEVENT
END:VCALENDAR
