BEGIN:VCALENDAR
VERSION:2.0
PRODID:icalendar-ruby
CALSCALE:GREGORIAN
BEGIN:VEVENT
DTSTAMP:20260421T101552Z
UID:7088ef39-feb3-4016-99b5-7866b63c948b
DTSTART:20261017T070000
DTEND:20261017T150000
DESCRIPTION:
LOCATION:Freyungerstr  Galgenau 94481 
SUMMARY:Festplatz
END:VEVENT
END:VCALENDAR
