BEGIN:VCALENDAR
VERSION:2.0
PRODID:icalendar-ruby
CALSCALE:GREGORIAN
BEGIN:VEVENT
DTSTAMP:20260424T221955Z
UID:0c10fd61-9a69-455f-9b90-6d701f97ea43
DTSTART:20260516T060000
DTEND:20260516T150000
DESCRIPTION: \n \nGrosser Trödel- Sammlermarkt in Sonneberg vor dem Rath
 aus gegenüber Bahnhof\,\, und in der Bahnhofstraße bis Köppelsdorferstr
 aße.\nzum   Internationalen PuppenFestival 2026\nStandgeld laufender Me
 ter 10\,- €\, Auto am Stand ab 3 Meter möglich \, \, keine Anmeldung n
 ötig einfach kommen. \nAufbau ab 6 Uhr \n 
LOCATION:Bahnhofsplatz 1 96515 
SUMMARY: Rathausplatz\, Bahnhofstraße\, PuppenFestival 2026
END:VEVENT
END:VCALENDAR
