BEGIN:VCALENDAR
VERSION:2.0
PRODID:icalendar-ruby
CALSCALE:GREGORIAN
BEGIN:VEVENT
DTSTAMP:20260421T013756Z
UID:3232e91c-90ff-4811-a6ef-872106ccd425
DTSTART:20260816T060000
DTEND:20260816T160000
DESCRIPTION:Der KAZ Flohmarkt findet auf dem Wochenmarkpaltz in der Innenst
 adt Göttingen statt.\nAufbau ist von 6-7 Uhr\, eine Platzreservierung is
 t erforderlich per mail an: info@flohmarkt-goettingen.de\nDer Flohmarkt i
 st sehr gut besucht.\nAm 16. April ist verkaufsoffener Sonntag zu "Göttin
 gen zieht an".\nAm 8. Oktober findet der Flohmarkt zum Gänselieslfest sta
 tt.
LOCATION:Hospitalstraße 8 37073 Innenstadt
SUMMARY:KAZ - Wochenmarktplatz Innenstadt Göttingen
END:VEVENT
END:VCALENDAR
