BEGIN:VCALENDAR
VERSION:2.0
PRODID:icalendar-ruby
CALSCALE:GREGORIAN
BEGIN:VEVENT
DTSTAMP:20260421T045018Z
UID:7ea98097-9c9e-4723-bc20-aa6500815c7d
DTSTART:20261108T060000
DTEND:20261108T160000
DESCRIPTION:Der KAZ Flohmarkt findet auf dem Wochenmarkpaltz in der Innenst
 adt Göttingen statt.\nAufbau ist von 6-7 Uhr\, eine Platzreservierung is
 t erforderlich per mail an: info@flohmarkt-goettingen.de\nDer Flohmarkt i
 st sehr gut besucht.\nAm 16. April ist verkaufsoffener Sonntag zu "Göttin
 gen zieht an".\nAm 8. Oktober findet der Flohmarkt zum Gänselieslfest sta
 tt.
LOCATION:Hospitalstraße 8 37073 Innenstadt
SUMMARY:KAZ - Wochenmarktplatz Innenstadt Göttingen
END:VEVENT
END:VCALENDAR
