BEGIN:VCALENDAR
VERSION:2.0
PRODID:icalendar-ruby
CALSCALE:GREGORIAN
BEGIN:VEVENT
DTSTAMP:20260420T140904Z
UID:44bb48e9-c73d-4f33-b8e6-37ec19aa2ab5
DTSTART:20260814T170000
DTEND:20260814T000000
DESCRIPTION:                Achtung nur Glasflohmarkt   N
 achtflohmarkt\n                             
      Traditionelle Zwieseler Glasnacht \ngesamter Ortskern gesperrt se
 hr viele verschiedene Aktivitäten im gesamten Stadtkernbereichen\nGlasflo
 hmarkt auf der Hauptstr. von 18.ooUhr bis 24.oo Uhr\nes wird erwartet das 
 nur Glas (min.90 %) angeboten wird\, vom Antikglas über Serienfertigung
  (Wein-\, Sekt\,- Glasteller- Vasen\,)und vieles mehr\, werden sicher au
 ch die begehrten Schnupftabakgläser angeboten.\nEs ist nur normale Stasse
 nbeleuchtung Vorhanden  Kerzen\, Laternen oder Stromlose Lampen Bitte sel
 ber mitbringen
LOCATION:Stadtplatz 1 94227 
SUMMARY:Unterer Stadtplatz
END:VEVENT
END:VCALENDAR
