BEGIN:VCALENDAR
VERSION:2.0
PRODID:icalendar-ruby
CALSCALE:GREGORIAN
BEGIN:VEVENT
DTSTAMP:20260421T211522Z
UID:913d0d65-89f5-4562-adc3-4cf17ea6f441
DTSTART:20260726T060000
DTEND:20260726T160000
DESCRIPTION:Herzlich Willkommen auf dem Flohmarkt\nin Schleswig beim Toom B
 aucenter\, \nSankt Jürgener Straße 53 \n Platzinfos:\nTelefonisch\nzwis
 chen 18:00 und 19:00 Uhr\nunter 0 17 127 28 4 72\noder\nAlle Informationen
  sowie Preise  unter\nwww.flohprofi.de\nSeit 2023\n7€ laufender Meter\n
  \nTermine zum Ausdrucken:\nwww.flohprofi.de/download/Termine2024.pdf\n 
 \nIch heiße Sie herzlich Willkommen zum mitmachen\nob nun als Aufsteller 
 oder Besucher\nAllgemeines\nMit einem PKW oder einem Anhänger werden 4 Me
 ter berechnet\, die natürlich dann auch zur Verfügung stehen und genutzt
  werden können.\nSollten Sie mit PKW und Anhänger stehen wollen müssen 
 Sie min. die Gesamtlänge von PKW und Anhänger zahlen\, im Normalfall 7 M
 eter aber genaueres sehen wir vor Ort. (wir sind keine Unmenschen)\n 
LOCATION:Sankt Jürgener Straße 53 24837 Klappschau
SUMMARY:Toom Baucenter Schleswig
END:VEVENT
END:VCALENDAR
