BEGIN:VCALENDAR
VERSION:2.0
PRODID:icalendar-ruby
CALSCALE:GREGORIAN
BEGIN:VEVENT
DTSTAMP:20260422T115315Z
UID:0879afbc-63b3-4752-bdf5-94dfefe80cc3
DTSTART:20261004T060000
DTEND:20261004T160000
DESCRIPTION:Herzlich Willkommen auf dem Flohmarkt\nin Schleswig beim REWE M
 arkt\, Friedrichsstrasse 32/Georg-Pfingsten-Weg 3\n Platzinfos:\nTelefoni
 sch\nzwischen 17:00 und 20:00 Uhr\nunter 0 17 127 28 4 72\noder\nAlle Info
 rmationen sowie Preise  unter\nwww.flohprofi.de\n \nTermine zum Ausdruck
 en:\nwww.flohprofi.de/download/Termine2025.pdf\n \nIch heiße Sie herzlic
 h Willkommen zum mitmachen\nob nun als Aufsteller oder Besucher\nAllgemein
 es\nMit einem PKW oder einem Anhänger werden 4 Meter berechnet\, die nat
 ürlich dann auch zur Verfügung stehen und genutzt werden können.\nSollt
 en Sie mit PKW und Anhänger stehen wollen müssen Sie min. die Gesamtlän
 ge von PKW und Anhänger zahlen\, im Normalfall 7 Meter aber genaueres seh
 en wir vor Ort. (wir sind keine Unmenschen)\n \n7€ laufender Meter
LOCATION:Georg-Pfingsten-Weg 3 24837 
SUMMARY:Schleswig REWE Friedrichsberg 
END:VEVENT
END:VCALENDAR
