BEGIN:VCALENDAR
VERSION:2.0
PRODID:icalendar-ruby
CALSCALE:GREGORIAN
BEGIN:VEVENT
DTSTAMP:20260422T163400Z
UID:b0bfbbe5-d46d-47be-9c07-c54f9bbcceaa
DTSTART:20260509T090000
DTEND:20260509T160000
DESCRIPTION:Sehr großer\, überregional bekannter\, zweitägiger Riesen- F
 lohmarkt! (Eintägige Teilnahme auch möglich!) Jeder kann ohne Anmeldung 
 mitmachen! Einfach vorbeikommen! Es gibt genug Platz für alle! Platzverga
 be jeweils ab 6 Uhr morgens! Aufbau samstags sofort\, sonntags ab 10 Uhr! 
 Standmiete € 10\,- pro Meter pro Tag! Bezahlung vor Ort! Fahrzeug kosten
 los am Stand! Neuwaren sind am Samstag erlaubt!\nBis dann!
LOCATION:Nibelungenring 60 67547 Worms
SUMMARY:Worms\, Großer Festplatz\, Riesenflohmarkt! Findet statt! ohne Vor
 anmeldung! Einfach vorbeikommen!
END:VEVENT
END:VCALENDAR
