BEGIN:VCALENDAR
VERSION:2.0
PRODID:icalendar-ruby
CALSCALE:GREGORIAN
BEGIN:VEVENT
DTSTAMP:20260425T120002Z
UID:39864d5b-a0cc-4937-9c19-1202c1531b8d
DTSTART:20260705T060000
DTEND:20260705T170000
DESCRIPTION: \nBarntrup Marktkauf Wiele\,\nFörsterweg direkt an der B1\nP
 latzvergabe beginnt ab 6.00 Uhr\nStandflächenpreise:Pkw am Stand ab 3 Met
 er möglich\nTrödel: Pkw am Stand 3 bis 5 Meter Aufbau vorm Fahrzeug 30\,
 -€\nTrödel: Pkw mit Anhänger Aufbau bis 7 Meter vorm Fahrzeug 40\,-€
 \,\nDieser Preis gildet für einen normalen Pkw mit einem Anhänger bis 2\
 ,5 Meter.\nTrödel: Transporter bis 7 Meter 40\,-€\njeder weitere Meter 
 Trödel 5\,-€\nOhne Fahrzeug am Stand:\nTrödel:\nder erste Meter 10\,-
 €\nTrödel: 2 Meter 20\,-€\, ab 3 bis 5 Meter 30\,- €\n \nFahrzeug 
 ab 3 Meter am Stand: Neuware 13\,- € pro lfdm.\n \nInfo: 0171-2094993\n
 oder 0171-2884978
LOCATION:Försterweg 43 32683 
SUMMARY:Marktkauf Parkplatz 
END:VEVENT
END:VCALENDAR
