BEGIN:VCALENDAR
VERSION:2.0
PRODID:icalendar-ruby
CALSCALE:GREGORIAN
BEGIN:VEVENT
DTSTAMP:20260420T141025Z
UID:9057435a-4369-45a9-a2f0-d706a41ae4a7
DTSTART:20260614T100000
DTEND:20260614T170000
DESCRIPTION:Großer Flohmarkt in Dreieich- Sprendlingen! Jeder kann ohne An
 meldung mitmachen! Einfach vorbeikommen! Es gibt genug Platz für alle! St
 andmiete beträgt € 10\,- pro Meter für Trödel! Bezahlung der Standmie
 te vor Ort! Fahrzeug kostenlos am Stand!\nTisch\, Stuhl\, Kleiderstange et
 c. bitte selbst mitbringen!\nPlatzvergabe ab 8 Uhr morgens! Unser Mitarbei
 ter zeigt Ihnen Ihren Standplatz!\nDer Markt findet bei jedem Wetter statt
 !\nBis dann!\n \nJetzt neu: Besuche www.gerosflohmarkt.de und verkaufe ko
 stenlos Deine Sachen online!\nGerosFlohmarkt.de - Flohmärkte und kostenlo
 se Kleinanzeigen!
LOCATION:Frankfurter Straße 127 63303 Sprendlingen
SUMMARY:Dreieich- Sprendlingen\, OBI\, Riesen- Flohmarkt! Findet statt! Ohn
 e Anmeldung! Ohne Termin! Einfach vorbeikommen!
END:VEVENT
END:VCALENDAR
