BEGIN:VCALENDAR
VERSION:2.0
PRODID:icalendar-ruby
CALSCALE:GREGORIAN
BEGIN:VEVENT
DTSTAMP:20260422T204549Z
UID:46b5cc6f-cbe7-46f6-9ccf-baa0dc4e1b90
DTSTART:20260514T110000
DTEND:20260514T180000
DESCRIPTION:großer gut besuchter Flohmarkt zum traditionellen Vatertagsfes
 t des Musikvereins! Besuchermassen! Jeder kann ohne Anmeldung mitmachen! E
 infach vorbeikommen! Es gibt genug Platz für alle! Platzvergabe ab 6 Uhr 
 morgens! Unser Mitarbeiter zeigt Ihnen Ihren Standplatz!Standmiete € 9\,
 - pro Meter! Bezahlung vor Ort! Fahrzeug kostenlos am Stand!\nTisch\, Stuh
 l\, Kleiderstange etc. bitte selbst mitbringen!\nBis dann!\nDer Markt find
 et bei jedem Wetter statt!\nGerne können Sie auch telefonisch: Tel. 0172-
  7976002 oder per Mail: info@geros-flohmarkt.de Ihren Standplatz bequem re
 servieren!\n \n \nJetzt neu: Besuche www.gerosflohmarkt.de und verkaufe 
 kostenlos Deine Sachen online!\nGerosFlohmarkt.de - Flohmärkte und kosten
 lose Kleinanzeigen!
LOCATION:Wendelsheimer Straße 49 72108 
SUMMARY:Rottenburg- Oberndorf\, Festplatz\, großer Flohmarkt zum Vatertags
 fest! findet statt! Ohne Voranmeldung! Einfach vorbeikommen!
END:VEVENT
END:VCALENDAR
