BEGIN:VCALENDAR
VERSION:2.0
PRODID:icalendar-ruby
CALSCALE:GREGORIAN
BEGIN:VEVENT
DTSTAMP:20260423T182741Z
UID:4b816b07-3012-4dd5-a098-8db5fed502ef
DTSTART:20261024T070000
DTEND:20261024T160000
DESCRIPTION:Trödelmarkt auf dem Annaberger Marktplatz .\n        
                   PRÄSENTATIONSPFLICHT DER WAREN ! Bis 1
 4.00 Uhr mindestens !\nGut besuchte Veranstaltung im Herzen der Bergstadt 
 Annaberg\,- auf dem schön gestalteten Marktplatz direkt vor dem Rathaus.\
 nViele Besucher aus Nah und Fern kommen nach Annaberg zum Besuch der Annen
 kirche\, sowie der Ausstellung im ERZHAMMER direkt am Marktplatz gelegen !
 \nBesucherparkplätze sind in der Tiefgarage direkt unterhalb des Marktpla
 tzes vorhanden.\nAnmeldung nicht erforderlich - einfach hinkommen !\nEin M
 arkt der "allemal" ein Versuch wert ist !\nInfo unter  0173-5955565 ( auc
 h WhatsApp )\ninfo@troedel-marktunion.dewww.troedel-marktunion.de\n 
LOCATION:Markt 4 09456 
SUMMARY:MARKTPLATZ ANNABERG 
END:VEVENT
END:VCALENDAR
