BEGIN:VCALENDAR
VERSION:2.0
PRODID:icalendar-ruby
CALSCALE:GREGORIAN
BEGIN:VEVENT
DTSTAMP:20260421T121001Z
UID:98f0ec76-7a7a-4d59-ba15-c1907a507d55
DTSTART:20260502T090000
DTEND:20260502T160000
DESCRIPTION:Reservierungen sind über www.nmv-marktagentur.de möglich !Don
 nerstag- und Samstag-Flohmarkt: Aufbau ab 9.00 Uhr\, Verkauf von 9.00 bis 
 16.00 UhrSonntag-Flohmarkt: Aufbau ab 10.00 Uhr\, Verkauf von 13.00 bis 18
 .00 UhrPreise: Der laufende Frontmeter Trödel- und Gebrauchtwaren kostet 
 8 € (Vorkasse)\, 9 € (Bezahlung vor Ort)\, Kleiderständer (keine Ausl
 eihe) 3 €\, Neuware 10 € (Vorkasse)\, 12 € (Bezahlung vor Ort).
LOCATION:Maybachstraße 27 73037 Göppingen
SUMMARY:Flohmarkt auf dem Freibad-Parkplatz
END:VEVENT
END:VCALENDAR
