BEGIN:VCALENDAR
VERSION:2.0
PRODID:icalendar-ruby
CALSCALE:GREGORIAN
BEGIN:VEVENT
DTSTAMP:20260425T103650Z
UID:03159e21-3d1c-491f-9a63-9b82b8694776
DTSTART:20260426T110000
DTEND:20260426T180000
DESCRIPTION:ldfl. Meter   für Trödel  = 10\,- € und Neuware  = 15\,
 - €\n \nPlatzvergabe ist immer samtags von 18.00-19.00 Uhr vor Ort oder
  sonntag Morgen von 6.00-8.00 Uhr
LOCATION:Hanns-Martin-Schleyer-Straße 1 51503 Rösrath
SUMMARY:OBI-Baumarkt Rösrath 
END:VEVENT
END:VCALENDAR
