BEGIN:VCALENDAR
VERSION:2.0
PRODID:icalendar-ruby
CALSCALE:GREGORIAN
BEGIN:VEVENT
DTSTAMP:20260425T103706Z
UID:988ba81d-f4a3-4410-93bc-1a4b50bc4f5d
DTSTART:20260517T110000
DTEND:20260517T180000
DESCRIPTION:ldfl. Meter   für Trödel  = 10\,- € und Neuware  = 15\,
 - €\n \nPlatzvergabe ist immer samtags von 18.00-19.00 Uhr vor Ort oder
  sonntag Morgen von 6.00-8.00 Uhr
LOCATION:Hanns-Martin-Schleyer-Straße 1 51503 Rösrath
SUMMARY:OBI-Baumarkt Rösrath 
END:VEVENT
END:VCALENDAR
